Package: simplifyEnrichment Version: 2.0.0 Command: /Library/Frameworks/R.framework/Resources/bin/R CMD INSTALL simplifyEnrichment StartedAt: 2025-03-31 17:00:06 -0400 (Mon, 31 Mar 2025) EndedAt: 2025-03-31 17:00:26 -0400 (Mon, 31 Mar 2025) EllapsedTime: 19.9 seconds RetCode: 0 Status: OK