Package: simona Version: 1.4.0 Command: /home/biocbuild/R/R/bin/R CMD INSTALL simona StartedAt: 2025-03-31 20:46:09 -0000 (Mon, 31 Mar 2025) EndedAt: 2025-03-31 20:48:03 -0000 (Mon, 31 Mar 2025) EllapsedTime: 114.4 seconds RetCode: 0 Status: OK