Package: simona Version: 1.4.0 Command: /home/biocbuild/R/R/bin/R CMD check --install=check:simona.install-out.txt --library=/home/biocbuild/R/R/site-library --no-vignettes --timings simona_1.4.0.tar.gz StartedAt: 2025-04-01 10:46:03 -0000 (Tue, 01 Apr 2025) EndedAt: 2025-04-01 10:48:28 -0000 (Tue, 01 Apr 2025) EllapsedTime: 144.2 seconds RetCode: 0 Status: OK CheckDir: simona.Rcheck Warnings: 0