Package: simona Version: 1.4.0 Command: /home/biocbuild/R/R/bin/R CMD build --keep-empty-dirs --no-resave-data simona StartedAt: 2025-04-01 02:44:29 -0000 (Tue, 01 Apr 2025) EndedAt: 2025-04-01 02:46:21 -0000 (Tue, 01 Apr 2025) EllapsedTime: 111.1 seconds RetCode: 0 Status: OK PackageFile: simona_1.4.0.tar.gz PackageFileSize: 944.7 KiB