Package: simona Version: 1.4.0 Command: /home/biocbuild/bbs-3.20-bioc/R/bin/R CMD check --install=check:simona.install-out.txt --library=/home/biocbuild/bbs-3.20-bioc/R/site-library --timings simona_1.4.0.tar.gz StartedAt: 2025-04-01 02:17:10 -0400 (Tue, 01 Apr 2025) EndedAt: 2025-04-01 02:18:59 -0400 (Tue, 01 Apr 2025) EllapsedTime: 109.1 seconds RetCode: 0 Status: OK CheckDir: simona.Rcheck Warnings: 0