Package: simPIC Version: 1.2.0 Command: /home/biocbuild/R/R/bin/R CMD INSTALL simPIC StartedAt: 2025-03-31 20:53:50 -0000 (Mon, 31 Mar 2025) EndedAt: 2025-03-31 20:54:19 -0000 (Mon, 31 Mar 2025) EllapsedTime: 29.0 seconds RetCode: 0 Status: OK