Package: simPIC Version: 1.2.0 Command: /home/biocbuild/R/R/bin/R CMD check --install=check:simPIC.install-out.txt --library=/home/biocbuild/R/R/site-library --no-vignettes --timings simPIC_1.2.0.tar.gz StartedAt: 2025-04-01 10:46:08 -0000 (Tue, 01 Apr 2025) EndedAt: 2025-04-01 10:49:51 -0000 (Tue, 01 Apr 2025) EllapsedTime: 222.3 seconds RetCode: 0 Status: OK CheckDir: simPIC.Rcheck Warnings: 0