Package: simPIC Version: 1.2.0 Command: /home/biocbuild/R/R/bin/R CMD build --keep-empty-dirs --no-resave-data simPIC StartedAt: 2025-04-01 02:44:32 -0000 (Tue, 01 Apr 2025) EndedAt: 2025-04-01 02:45:35 -0000 (Tue, 01 Apr 2025) EllapsedTime: 62.1 seconds RetCode: 0 Status: OK PackageFile: simPIC_1.2.0.tar.gz PackageFileSize: 1.182 MiB