Package: simPIC Version: 1.2.0 Command: /Library/Frameworks/R.framework/Resources/bin/R CMD check --install=check:simPIC.install-out.txt --library=/Library/Frameworks/R.framework/Resources/library --no-vignettes --timings simPIC_1.2.0.tar.gz StartedAt: 2025-04-01 09:15:58 -0400 (Tue, 01 Apr 2025) EndedAt: 2025-04-01 09:22:08 -0400 (Tue, 01 Apr 2025) EllapsedTime: 369.9 seconds RetCode: 0 Status: OK CheckDir: simPIC.Rcheck Warnings: 0