Package: simPIC Version: 1.2.0 Command: /Library/Frameworks/R.framework/Resources/bin/R CMD build --keep-empty-dirs --no-resave-data simPIC StartedAt: 2025-03-31 22:05:33 -0400 (Mon, 31 Mar 2025) EndedAt: 2025-03-31 22:07:13 -0400 (Mon, 31 Mar 2025) EllapsedTime: 100.0 seconds RetCode: 0 Status: OK PackageFile: simPIC_1.2.0.tar.gz PackageFileSize: 1.144 MiB