Package: signifinder Version: 1.8.1 Command: /Library/Frameworks/R.framework/Resources/bin/R CMD INSTALL signifinder StartedAt: 2025-03-31 18:17:37 -0400 (Mon, 31 Mar 2025) EndedAt: 2025-03-31 18:18:38 -0400 (Mon, 31 Mar 2025) EllapsedTime: 61.4 seconds RetCode: 0 Status: OK