Package: signifinder Version: 1.8.1 Command: /Library/Frameworks/R.framework/Resources/bin/R CMD build --keep-empty-dirs --no-resave-data signifinder StartedAt: 2025-04-01 07:50:50 -0400 (Tue, 01 Apr 2025) EndedAt: 2025-04-01 07:54:32 -0400 (Tue, 01 Apr 2025) EllapsedTime: 221.9 seconds RetCode: 0 Status: OK PackageFile: signifinder_1.8.1.tar.gz PackageFileSize: 9.849 MiB