Package: signeR Version: 2.8.0 Command: /home/biocbuild/R/R/bin/R CMD INSTALL signeR StartedAt: 2025-03-31 21:10:29 -0000 (Mon, 31 Mar 2025) EndedAt: 2025-03-31 21:12:21 -0000 (Mon, 31 Mar 2025) EllapsedTime: 112.0 seconds RetCode: 0 Status: OK