Package: signeR Version: 2.8.0 Command: /home/biocbuild/R/R/bin/R CMD build --keep-empty-dirs --no-resave-data signeR StartedAt: 2025-04-01 02:42:56 -0000 (Tue, 01 Apr 2025) EndedAt: 2025-04-01 02:47:59 -0000 (Tue, 01 Apr 2025) EllapsedTime: 302.4 seconds RetCode: 0 Status: OK PackageFile: signeR_2.8.0.tar.gz PackageFileSize: 4.059 MiB