Package: signeR Version: 2.8.0 Command: F:\biocbuild\bbs-3.20-bioc\R\bin\R.exe CMD check --no-multiarch --install=check:signeR.install-out.txt --library=F:\biocbuild\bbs-3.20-bioc\R\library --no-vignettes --timings signeR_2.8.0.tar.gz StartedAt: 2025-04-01 06:01:19 -0400 (Tue, 01 Apr 2025) EndedAt: 2025-04-01 06:10:08 -0400 (Tue, 01 Apr 2025) EllapsedTime: 528.7 seconds RetCode: 0 Status: OK CheckDir: signeR.Rcheck Warnings: 0