Package: signeR Version: 2.8.0 Command: chmod a+r signeR -R && F:\biocbuild\bbs-3.20-bioc\R\bin\R.exe CMD build --keep-empty-dirs --no-resave-data signeR StartedAt: 2025-03-31 21:56:34 -0400 (Mon, 31 Mar 2025) EndedAt: 2025-03-31 22:01:47 -0400 (Mon, 31 Mar 2025) EllapsedTime: 313.3 seconds RetCode: 0 Status: OK PackageFile: signeR_2.8.0.tar.gz PackageFileSize: 2.472 MiB