Package: signeR Version: 2.8.0 Command: rm -rf signeR.buildbin-libdir && mkdir signeR.buildbin-libdir && F:\biocbuild\bbs-3.20-bioc\R\bin\R.exe CMD INSTALL --build --library=signeR.buildbin-libdir signeR_2.8.0.tar.gz StartedAt: 2025-04-01 09:14:09 -0400 (Tue, 01 Apr 2025) EndedAt: 2025-04-01 09:16:18 -0400 (Tue, 01 Apr 2025) EllapsedTime: 128.6 seconds RetCode: 0 Status: OK PackageFile: signeR_2.8.0.zip PackageFileSize: 2.868 MiB