Package: signeR Version: 2.8.0 Command: /home/biocbuild/bbs-3.20-bioc/R/bin/R CMD INSTALL signeR StartedAt: 2025-03-31 16:00:40 -0400 (Mon, 31 Mar 2025) EndedAt: 2025-03-31 16:02:05 -0400 (Mon, 31 Mar 2025) EllapsedTime: 84.6 seconds RetCode: 0 Status: OK