Package: signeR Version: 2.8.0 Command: rm -rf signeR.buildbin-libdir && mkdir signeR.buildbin-libdir && /Users/biocbuild/BBS/utils/build-universal.sh signeR_2.8.0.tar.gz /Library/Frameworks/R.framework/Resources/bin/R signeR.buildbin-libdir StartedAt: 2025-04-01 12:46:58 -0400 (Tue, 01 Apr 2025) EndedAt: 2025-04-01 12:49:58 -0400 (Tue, 01 Apr 2025) EllapsedTime: 179.9 seconds RetCode: 0 Status: OK PackageFile: signeR_2.8.0.tgz PackageFileSize: 2.506 MiB