Package: signeR Version: 2.8.0 Command: /Library/Frameworks/R.framework/Resources/bin/R CMD INSTALL signeR StartedAt: 2025-03-31 18:15:33 -0400 (Mon, 31 Mar 2025) EndedAt: 2025-03-31 18:17:01 -0400 (Mon, 31 Mar 2025) EllapsedTime: 87.7 seconds RetCode: 0 Status: OK