Package: signeR Version: 2.8.0 Command: /Library/Frameworks/R.framework/Resources/bin/R CMD build --keep-empty-dirs --no-resave-data signeR StartedAt: 2025-04-01 07:50:37 -0400 (Tue, 01 Apr 2025) EndedAt: 2025-04-01 07:54:39 -0400 (Tue, 01 Apr 2025) EllapsedTime: 242.0 seconds RetCode: 0 Status: OK PackageFile: signeR_2.8.0.tar.gz PackageFileSize: 2.41 MiB