Package: signatureSearch Version: 1.20.0 Command: chmod a+r signatureSearch -R && F:\biocbuild\bbs-3.20-bioc\R\bin\R.exe CMD build --keep-empty-dirs --no-resave-data signatureSearch StartedAt: 2025-03-31 21:56:26 -0400 (Mon, 31 Mar 2025) EndedAt: 2025-03-31 22:07:40 -0400 (Mon, 31 Mar 2025) EllapsedTime: 673.8 seconds RetCode: 0 Status: OK PackageFile: signatureSearch_1.20.0.tar.gz PackageFileSize: 4.926 MiB