Package: signatureSearch Version: 1.20.0 Command: /Library/Frameworks/R.framework/Resources/bin/R CMD INSTALL signatureSearch StartedAt: 2025-03-31 16:10:55 -0400 (Mon, 31 Mar 2025) EndedAt: 2025-03-31 16:14:27 -0400 (Mon, 31 Mar 2025) EllapsedTime: 211.9 seconds RetCode: 0 Status: OK