Package: signatureSearch Version: 1.20.0 Command: rm -rf signatureSearch.buildbin-libdir && mkdir signatureSearch.buildbin-libdir && /Users/biocbuild/BBS/utils/build-universal.sh signatureSearch_1.20.0.tar.gz /Library/Frameworks/R.framework/Resources/bin/R signatureSearch.buildbin-libdir StartedAt: 2025-04-01 12:46:58 -0400 (Tue, 01 Apr 2025) EndedAt: 2025-04-01 12:50:42 -0400 (Tue, 01 Apr 2025) EllapsedTime: 224.5 seconds RetCode: 0 Status: OK PackageFile: signatureSearch_1.20.0.tgz PackageFileSize: 85.23 MiB