Package: signatureSearch Version: 1.20.0 Command: /Library/Frameworks/R.framework/Resources/bin/R CMD INSTALL signatureSearch StartedAt: 2025-03-31 17:15:05 -0400 (Mon, 31 Mar 2025) EndedAt: 2025-03-31 17:17:12 -0400 (Mon, 31 Mar 2025) EllapsedTime: 127.2 seconds RetCode: 0 Status: OK