Package: signatureSearch Version: 1.20.0 Command: /Library/Frameworks/R.framework/Resources/bin/R CMD build --keep-empty-dirs --no-resave-data signatureSearch StartedAt: 2025-04-01 07:50:15 -0400 (Tue, 01 Apr 2025) EndedAt: 2025-04-01 08:00:35 -0400 (Tue, 01 Apr 2025) EllapsedTime: 619.6 seconds RetCode: 0 Status: OK PackageFile: signatureSearch_1.20.0.tar.gz PackageFileSize: 5.288 MiB