Package: signatureSearch Version: 1.20.0 Command: rm -rf signatureSearch.buildbin-libdir && mkdir signatureSearch.buildbin-libdir && /Users/biocbuild/BBS/utils/build-universal.sh signatureSearch_1.20.0.tar.gz /Library/Frameworks/R.framework/Resources/bin/R signatureSearch.buildbin-libdir StartedAt: 2025-04-02 16:21:41 -0400 (Wed, 02 Apr 2025) EndedAt: 2025-04-02 16:24:06 -0400 (Wed, 02 Apr 2025) EllapsedTime: 144.6 seconds RetCode: 0 Status: OK PackageFile: signatureSearch_1.20.0.tgz PackageFileSize: 85.24 MiB