Package: sights Version: 1.32.0 Command: /home/biocbuild/R/R/bin/R CMD INSTALL sights StartedAt: 2025-03-31 20:24:17 -0000 (Mon, 31 Mar 2025) EndedAt: 2025-03-31 20:24:25 -0000 (Mon, 31 Mar 2025) EllapsedTime: 7.4 seconds RetCode: 0 Status: OK