Package: sights Version: 1.32.0 Command: F:\biocbuild\bbs-3.20-bioc\R\bin\R.exe CMD INSTALL sights StartedAt: 2025-03-31 15:35:39 -0400 (Mon, 31 Mar 2025) EndedAt: 2025-03-31 15:35:55 -0400 (Mon, 31 Mar 2025) EllapsedTime: 15.6 seconds RetCode: 0 Status: OK