Package: siggenes Version: 1.80.0 Command: /home/biocbuild/R/R/bin/R CMD INSTALL siggenes StartedAt: 2025-03-31 20:57:25 -0000 (Mon, 31 Mar 2025) EndedAt: 2025-03-31 20:57:40 -0000 (Mon, 31 Mar 2025) EllapsedTime: 15.4 seconds RetCode: 0 Status: OK