Package: siggenes Version: 1.80.0 Command: /Library/Frameworks/R.framework/Resources/bin/R CMD INSTALL siggenes StartedAt: 2025-03-31 17:25:30 -0400 (Mon, 31 Mar 2025) EndedAt: 2025-03-31 17:25:42 -0400 (Mon, 31 Mar 2025) EllapsedTime: 12.1 seconds RetCode: 0 Status: OK