Package: shinyepico Version: 1.14.0 Command: F:\biocbuild\bbs-3.20-bioc\R\bin\R.exe CMD INSTALL shinyepico StartedAt: 2025-03-31 17:03:27 -0400 (Mon, 31 Mar 2025) EndedAt: 2025-03-31 17:03:40 -0400 (Mon, 31 Mar 2025) EllapsedTime: 13.7 seconds RetCode: 0 Status: OK