Package: shinyepico Version: 1.14.0 Command: /Library/Frameworks/R.framework/Resources/bin/R CMD INSTALL shinyepico StartedAt: 2025-03-31 16:33:41 -0400 (Mon, 31 Mar 2025) EndedAt: 2025-03-31 16:33:53 -0400 (Mon, 31 Mar 2025) EllapsedTime: 12.0 seconds RetCode: 0 Status: OK