Package: shinyepico Version: 1.14.0 Command: /Library/Frameworks/R.framework/Resources/bin/R CMD build --keep-empty-dirs --no-resave-data shinyepico StartedAt: 2025-03-31 22:02:35 -0400 (Mon, 31 Mar 2025) EndedAt: 2025-03-31 22:02:56 -0400 (Mon, 31 Mar 2025) EllapsedTime: 21.5 seconds RetCode: 0 Status: OK PackageFile: shinyepico_1.14.0.tar.gz PackageFileSize: 2.248 MiB