Package: shinyMethyl Version: 1.42.0 Command: /home/biocbuild/R/R/bin/R CMD check --install=check:shinyMethyl.install-out.txt --library=/home/biocbuild/R/R/site-library --no-vignettes --timings shinyMethyl_1.42.0.tar.gz StartedAt: 2025-04-01 10:42:06 -0000 (Tue, 01 Apr 2025) EndedAt: 2025-04-01 10:48:44 -0000 (Tue, 01 Apr 2025) EllapsedTime: 397.6 seconds RetCode: 0 Status: OK CheckDir: shinyMethyl.Rcheck Warnings: 0