Package: shinyMethyl Version: 1.42.0 Command: F:\biocbuild\bbs-3.20-bioc\R\bin\R.exe CMD INSTALL shinyMethyl StartedAt: 2025-03-31 17:04:19 -0400 (Mon, 31 Mar 2025) EndedAt: 2025-03-31 17:05:16 -0400 (Mon, 31 Mar 2025) EllapsedTime: 57.4 seconds RetCode: 0 Status: OK