Package: shinyMethyl Version: 1.42.0 Command: F:\biocbuild\bbs-3.20-bioc\R\bin\R.exe CMD check --no-multiarch --install=check:shinyMethyl.install-out.txt --library=F:\biocbuild\bbs-3.20-bioc\R\library --no-vignettes --timings shinyMethyl_1.42.0.tar.gz StartedAt: 2025-04-01 05:58:37 -0400 (Tue, 01 Apr 2025) EndedAt: 2025-04-01 06:05:40 -0400 (Tue, 01 Apr 2025) EllapsedTime: 423.6 seconds RetCode: 0 Status: OK CheckDir: shinyMethyl.Rcheck Warnings: 0