Package: shiny.gosling Version: 1.2.0 Command: /home/biocbuild/R/R/bin/R CMD check --install=check:shiny.gosling.install-out.txt --library=/home/biocbuild/R/R/site-library --no-vignettes --timings shiny.gosling_1.2.0.tar.gz StartedAt: 2025-04-01 10:41:43 -0000 (Tue, 01 Apr 2025) EndedAt: 2025-04-01 10:42:12 -0000 (Tue, 01 Apr 2025) EllapsedTime: 29.0 seconds RetCode: 0 Status: OK CheckDir: shiny.gosling.Rcheck Warnings: 0