Package: shiny.gosling Version: 1.2.0 Command: /Library/Frameworks/R.framework/Resources/bin/R CMD check --install=check:shiny.gosling.install-out.txt --library=/Library/Frameworks/R.framework/Resources/library --no-vignettes --timings shiny.gosling_1.2.0.tar.gz StartedAt: 2025-04-02 08:42:36 -0400 (Wed, 02 Apr 2025) EndedAt: 2025-04-02 08:43:16 -0400 (Wed, 02 Apr 2025) EllapsedTime: 39.7 seconds RetCode: 0 Status: OK CheckDir: shiny.gosling.Rcheck Warnings: 0