Package: shiny.gosling Version: 1.2.0 Command: /Library/Frameworks/R.framework/Resources/bin/R CMD build --keep-empty-dirs --no-resave-data shiny.gosling StartedAt: 2025-04-01 07:45:04 -0400 (Tue, 01 Apr 2025) EndedAt: 2025-04-01 07:45:42 -0400 (Tue, 01 Apr 2025) EllapsedTime: 37.8 seconds RetCode: 0 Status: OK PackageFile: shiny.gosling_1.2.0.tar.gz PackageFileSize: 1.715 MiB