Package: sevenbridges Version: 1.36.0 Command: F:\biocbuild\bbs-3.20-bioc\R\bin\R.exe CMD INSTALL sevenbridges StartedAt: 2025-03-31 15:32:06 -0400 (Mon, 31 Mar 2025) EndedAt: 2025-03-31 15:36:15 -0400 (Mon, 31 Mar 2025) EllapsedTime: 248.7 seconds RetCode: 0 Status: OK