Package: sevenbridges Version: 1.36.0 Command: rm -rf sevenbridges.buildbin-libdir && mkdir sevenbridges.buildbin-libdir && F:\biocbuild\bbs-3.20-bioc\R\bin\R.exe CMD INSTALL --build --library=sevenbridges.buildbin-libdir sevenbridges_1.36.0.tar.gz StartedAt: 2025-04-01 09:12:59 -0400 (Tue, 01 Apr 2025) EndedAt: 2025-04-01 09:18:27 -0400 (Tue, 01 Apr 2025) EllapsedTime: 328.7 seconds RetCode: 0 Status: OK PackageFile: sevenbridges_1.36.0.zip PackageFileSize: 5.809 MiB