Package: sevenC Version: 1.26.0 Command: /home/biocbuild/R/R/bin/R CMD build --keep-empty-dirs --no-resave-data sevenC StartedAt: 2025-04-01 02:41:17 -0000 (Tue, 01 Apr 2025) EndedAt: 2025-04-01 02:42:35 -0000 (Tue, 01 Apr 2025) EllapsedTime: 78.1 seconds RetCode: 0 Status: OK PackageFile: sevenC_1.26.0.tar.gz PackageFileSize: 1.993 MiB