Package: sevenC Version: 1.26.0 Command: rm -rf sevenC.buildbin-libdir && mkdir sevenC.buildbin-libdir && F:\biocbuild\bbs-3.20-bioc\R\bin\R.exe CMD INSTALL --build --library=sevenC.buildbin-libdir sevenC_1.26.0.tar.gz StartedAt: 2025-04-01 09:13:01 -0400 (Tue, 01 Apr 2025) EndedAt: 2025-04-01 09:14:07 -0400 (Tue, 01 Apr 2025) EllapsedTime: 66.6 seconds RetCode: 0 Status: OK PackageFile: sevenC_1.26.0.zip PackageFileSize: 2.031 MiB