Package: sesame Version: 1.24.0 Command: F:\biocbuild\bbs-3.20-bioc\R\bin\R.exe CMD INSTALL sesame StartedAt: 2025-03-31 16:03:15 -0400 (Mon, 31 Mar 2025) EndedAt: 2025-03-31 16:04:45 -0400 (Mon, 31 Mar 2025) EllapsedTime: 89.9 seconds RetCode: 0 Status: OK