Package: sesame Version: 1.24.0 Command: /Library/Frameworks/R.framework/Resources/bin/R CMD INSTALL sesame StartedAt: 2025-03-31 15:31:42 -0400 (Mon, 31 Mar 2025) EndedAt: 2025-03-31 15:32:57 -0400 (Mon, 31 Mar 2025) EllapsedTime: 75.1 seconds RetCode: 0 Status: OK