Package: sesame Version: 1.24.0 Command: /Library/Frameworks/R.framework/Resources/bin/R CMD check --install=check:sesame.install-out.txt --library=/Library/Frameworks/R.framework/Resources/library --no-vignettes --timings sesame_1.24.0.tar.gz StartedAt: 2025-03-26 08:51:36 -0400 (Wed, 26 Mar 2025) EndedAt: 2025-03-26 09:09:51 -0400 (Wed, 26 Mar 2025) EllapsedTime: 1095.4 seconds RetCode: 0 Status: OK CheckDir: sesame.Rcheck Warnings: 0