Package: seqsetvis Version: 1.26.0 Command: /home/biocbuild/R/R/bin/R CMD check --install=check:seqsetvis.install-out.txt --library=/home/biocbuild/R/R/site-library --no-vignettes --timings seqsetvis_1.26.0.tar.gz StartedAt: 2025-04-01 10:38:56 -0000 (Tue, 01 Apr 2025) EndedAt: 2025-04-01 10:51:27 -0000 (Tue, 01 Apr 2025) EllapsedTime: 751.0 seconds RetCode: 0 Status: OK CheckDir: seqsetvis.Rcheck Warnings: 0