Package: seqsetvis Version: 1.26.0 Command: /home/biocbuild/R/R/bin/R CMD build --keep-empty-dirs --no-resave-data seqsetvis StartedAt: 2025-04-01 02:39:53 -0000 (Tue, 01 Apr 2025) EndedAt: 2025-04-01 02:41:35 -0000 (Tue, 01 Apr 2025) EllapsedTime: 102.1 seconds RetCode: 0 Status: OK PackageFile: seqsetvis_1.26.0.tar.gz PackageFileSize: 1.408 MiB