Package: seqsetvis Version: 1.26.0 Command: /Library/Frameworks/R.framework/Resources/bin/R CMD INSTALL seqsetvis StartedAt: 2025-03-31 15:41:36 -0400 (Mon, 31 Mar 2025) EndedAt: 2025-03-31 15:42:54 -0400 (Mon, 31 Mar 2025) EllapsedTime: 78.3 seconds RetCode: 0 Status: OK